{"text_format":"1","workbook":"xlsx","n_sheets":4,"sheets":["PR","ValLAB","calcul dies","CONTRACTES"],"not_rendered":{"charts":0,"images":0,"macros":1,"external_links":2,"defined_names":11,"comments":1,"pivot_tables":0},"unopened":[],"bounds":{"document_bytes":16777216,"sheet_cells":100000,"rows_first":2000,"rows_last":500,"rows_between":2000,"halvings":0,"cell_chars":16384,"cell_head_chars":4096},"cells_cut":0,"cells_raw":0,"read":"whole","date_system":"1900"}

{"sheet":"PR","index":0,"n_rows":54,"n_cols":5,"rows_kept":54,"cut":false,"hidden":false,"merged":[[30,2,30,3],[0,1,0,2],[28,0,28,1],[8,0,8,3],[45,0,45,1]]}
["NOM"]
["TIPUS CONTRACTE"]
["DEDICACIÓ",37.5,{"$f":"IF(ValLAB!J20=2,\"Posar dedicació 37,5 hores\",IF(ValLAB!J20=3,\"Posar dedicació a temps parcial\",\"TP: posar les hores setmanals de dedicació / TC: posar 37,5 hores\"))","v":"TP: posar les hores setmanals de dedicació / TC: posar 37,5 hores"}]
["INICI VINCULACIÓ","2025-01-01"]
["INICI CONTRACTE/PRORROGA","2025-01-01","FI CONTRACTE","2025-12-31"]
["CATEGORIA","1900-01-03","Nº TRIENNIS"]
[]
["Nº Dies RD",20,null,{"$f":"(D6*ValLAB!B8)*(B3/37.5)","v":0}]
["COST MENSUAL"]
["Retribucions:      ",{"$f":"SUM(B11:B14)","v":2666.7}]
["Sou",{"$f":"(ValLAB!K16)*B3/37.5","v":1474.19}]
["Comp.Lloc de treball",{"$f":"(ValLAB!L16)*B3/37.5","v":196.97}]
["Complement categoria",{"$f":"(ValLAB!M16)*B3/37.5","v":986.96}]
["Acord mesa universitària",{"$f":"(ValLAB!N16)*B3/37.5","v":8.58}]
[]
["Prorrata mensual extres",{"$f":"ValLAB!O16*2/12*B3/37.5","v":443.02}]
["Prorrata mensual triennis extres",{"$f":"D8*2/12","v":0}]
["TOTAL PRORRATA ",{"$f":"SUM(B16:B17)","v":443.02}]
[]
["Triennis: ",{"$f":"SUM(D8)","v":0}]
[]
["TOTAL RETRIBUCIONS",{"$f":"SUM(B10+B18+B20)","v":3109.72}]
["Indemnització RD"]
["Quota patronal",{"$f":"IF(B22>4139.4,ValLAB!L20*4139.4,B22*ValLAB!L20)","v":999.77497999999991}]
["TOTAL COST",{"$f":"SUM(B22:B24)","v":4109.4949799999995}]
[]
[]
["COST PERIODE  DEMANAT",{"$f":"CONCATENATE(B1,\" (\",DAY(B5),\"/\",MONTH(B5),\"/\",YEAR(B5),\"-\",DAY(D5),\"/\",MONTH(D5),\"/\",YEAR(D5),\")\")","v":" (1/1/2025-31/12/2025)"}]
[]
[null,"ACTUAL"]
["Retribucions:",{"$f":"IF(B10=0,0,B10*(D49+(E49/30)))","v":32000.399999999998},"                                                                 PERIODE DEMANAT"]
[]
["TOTAL EXTRES:",{"$f":"SUM(B34:B35)","v":5316.24},"nº mesos",{"$f":"D49","v":12}]
["Extra  juny",{"$f":"IF(B18=0,\" \",B18/2*(D49+(E49/30)))","v":2658.12},"nº dies",{"$f":"E49","v":0}]
["Extra desembre",{"$f":"IF(B18=0,\" \",(B18/2)*(D49+E49/30))","v":2658.12}]
[]
["Triennis: ",{"$f":"IF(B20=0,0,B20*(D49+E49/30))","v":0}]
[]
["TOTAL RETRIB.",{"$f":"IF(B31=0,0,SUM(B31+B33+B37))","v":37316.639999999999}]
["Indemnització RD "]
["Quota patronal",{"$f":"IF(B22>4139.4,B24*(D49+(E49/30)),B39*ValLAB!L20)","v":11997.29976}]
["TOTAL COST",{"$f":"SUM(B39:B41)","v":49313.939760000001}]
[]
[]
[]
["MERITACIÓ ARROSEGAMENT PAGUES"]
[null,"DATA INICI","DATA FI","Nº MESOS","Nº DIES"]
["TOTAL VINCULACIÓ",{"$f":"IF(B4=0,\" \",B4)","v":"2025-01-01"},{"$f":"IF(D5=0,\" \",D5)","v":"2025-12-31"},{"$f":"IF((C48-B48)>0,'calcul dies'!L5,\"ERROR DATES\")","v":12},{"$f":"IF((C48-B48)>0,'calcul dies'!N5,\" \")","v":0}]
["PRORROGA",{"$f":"IF(B5=0,\" \",B5)","v":"2025-01-01"},{"$f":"IF(D5=0,\" \",D5)","v":"2025-12-31"},{"$f":"IF((C48-B48)>0,'calcul dies'!L10,\"ERROR DATES\")","v":12},{"$f":"IF((C48-B48)>0,'calcul dies'!N10,\" \")","v":0}]
["MERITEN",null,"DATA FI","NºMESOS","Nº DIES"]
["de 01/07 a 30/06",null,{"$f":"IF(G5=0,\" \",(G5)-1)","v":" "},{"$f":"IF(B51=0,0,IF((C51-B51)>366,\"ERROR DATA\",IF((C51-B51)>0,'[2]calcul dies'!L15,\"ERR0R DATA \")))","v":0},{"$f":"IF(B51=0,0,IF((C51-B51)>366,\" \",IF((C51-B51)>0,'[2]calcul dies'!N15,\" \")))","v":0}]
["de 01/01 a 31/12",null,{"$f":"IF(G5=0,\" \",(G5)-1)","v":" "},{"$f":"IF(B52=0,0,IF((C52-B52)>366,\"ERROR DATA\",IF((C52-B52)>0,'[2]calcul dies'!L20,\"ERR0R DATA \")))","v":0},{"$f":"IF(B52=0,0,IF((C52-B52)>366,\" \",IF((C52-B52)>0,'[2]calcul dies'!N20,\" \")))","v":0}]
["Indemnització RD",null,{"$f":"IF(G5=0,\" \",(G5)-1)","v":" "},{"$f":"IF(B53=0,0,IF((C53-B53)>366,\"ERROR DATA\",IF((C53-B53)>0,'[2]calcul dies'!#REF!,\"ERR0R DATA \")))","v":0},{"$f":"IF(B53=0,0,IF((C53-B53)>366,\"ERROR DATA\",IF((C53-B53)>0,'[2]calcul dies'!#REF!,\" \")))","v":0}]
["Període treballat al 2014",null,{"$f":"IF(YEAR(G5)>2014,DATE(2014,12,31),IF(G5<>0,G5,\" \"))","v":" "},{"$f":"IF(B54=0,0,IF((C54-B54)>366,\"ERROR DATA\",IF((C54-B54)>0,'[2]calcul dies'!#REF!,\"ERR0R DATA \")))","v":0},{"$f":"IF(B54=0,0,IF((C54-B54)>366,\"ERROR DATA\",IF((C54-B54)>0,'[2]calcul dies'!#REF!,\" \")))","v":0}]

{"sheet":"ValLAB","index":1,"n_rows":40,"n_cols":22,"rows_kept":40,"cut":false,"hidden":true,"merged":[]}
[]
["Grups","Sou mes","comp.lloc","comp.cat","ACORD MESA",null,"Centre Liquidació","Valor Seg_ Social","Reduccions",null,"Tipus de contractes","Centre Liq.","% QP","% RETRIB.","Indemnització",null,null,"Finançament",null,"Conceptes"]
["Postdoctoral",1474.19,196.97,101.02,8.58,null,"005-A",null,1,null,"LABORAL INDEFINIT","006-A",0.32150000000000001,1,"no",null,null,"Capítol 1",1,"Substitució per alliberament sindical",1,"Persona a substituir categoria, dedicació i periode d'àbsència"]
["Ordinari",1474.19,196.97,986.96,8.58,null,"006-A",null,0.75,null,"TEMPORAL VINCULAT A PROGRAMES FINANÇATS PER FONS EUROPEUS TC (37,5h)","007-A",0.33350000000000002,1,"si",null,null,"Fin. Específic",2,"Substitució per IT",2,"Persona substituta, categoria i dedicació"]
["Director",1474.19,196.97,1479.16,8.58,null,"007-A",null,0.6,null,"TEMPORAL VINCULAT A PROGRAMES FINANÇATS PER FONS EUROPEUS TP (<37,5h)",null,0.33350000000000002,1,"si",null,null,"Cofinançament",3,"Reforç",3,"Grup i complements"]
[null,null,null,null,null,null,"005-D",null,null,null,null,null,null,null,null,null,null,null,null,"Gratificació",4,"Import /mes"]
[null,null,null,null,null,null,"006-D",null,null,null,null,null,null,null,null,null,null,null,null,"Hores extres / Serveis Extraordinàris",5,"Nombre d'hores"]
["Import triennis",56.72,null,null,null,null,"007-D",null,null,null,null,null,null,null,null,null,null,null,null,"Altres (de FDP)",6,"Tipus"]
[null,null,null,null,null,null,"005-80",null,null,null,null,null,null,null,null,null,null,null,"Contractació contra plaça autoritzada",7]
[null,null,null,null,null,null,"006-80",null,null,null,null,null,null,null,null,null,null,null,"Resolució concurs",8]
[null,null,null,null,null,null,"007-80",null,null,null,null,null,null,null,null,null,null,null,"Altres (d'apunt)",9]
[null,null,null,null,null,null,"001-A",null,null,null,null,null,null,null,null,null,null,null,"Actuació transversal",10,"Acció transversal concreta:"]
[null,null,null,null,null,null,"002-A",null,null,null,null,null,null,null,null,null,null,null,"Actuació general",11,"Tipus + Clau retributiva afectada"]
["retribucions actualitzades amb l'increment febrer 2026",null,null,null,null,null,null,null,null,"Retribucions"]
[null,null,null,null,null,"Base max. Cotització 2025",null,5101.2,null,"Grup","Sou","Millora","Hora","Acord mesa","per pagues"]
[null,null,null,null,null,null,null,null,null,2,{"$f":"CHOOSE(J16,B3,B4,B5)","v":1474.19},{"$f":"CHOOSE(J16,C3,C4,C5)","v":196.97},{"$f":"CHOOSE(J16,D3,D4,D5)","v":986.96},{"$f":"CHOOSE(J16,E3,E4,E5)","v":8.58},{"$f":"SUM(K16:M16)","v":2658.12}]
[null,null,null,null,null,null,null,null,null,"CLT"]
[null,null,null,null,null,null,null,null,null,29,{"$f":"INDEX(G3:G32,J18)","v":0}]
[null,null,null,null,null,null,null,null,null,"Centre de Liquidació-Epígraf",null,"% corresponent"]
[null,null,null,null,null,null,null,null,null,1,{"$f":"INDEX(L3:L8,J20)","v":"006-A"},{"$f":"INDEX(M3:M8,J20)","v":0.32150000000000001}]
[]
[]
[]
[]
[]
[2021]
["CATEGORIA","DEDICACIÓ","SOU BASE","COMPL. DE CATEGORIA","COMPL. DE LLOC","ACORD MESA UNIVERSITATS","TRIENNI MENSUAL"]
["Investigador posdoc","TC",1290.49,172.42,88.42,7.47]
["Investigador ordinari/a","TC",1290.49,172.42,863.98,7.47,49.64]
["Director/a de investigació","TC",1290.49,172.42,1294.8499999999999,7.47,49.64]
[]
[2022]
["Investigador posdoc","TC",1316.3,175.87,90.190000000000012,7.62]
["Investigador ordinari/a","TC",1316.3,175.87,881.26,7.62,50.64]
["Director/a de investigació","TC",1316.3,175.87,1320.75,7.62,50.64]
[]
["2022-11-01"]
["Investigador posdoc","TC",1335.66,178.46,91.52,7.74,51.39]
["Investigador ordinari/a","TC",1335.66,178.46,894.22,7.74,51.39]
["Director/a de investigació","TC",1335.66,178.46,1340.18,7.74,51.39]

{"sheet":"calcul dies","index":2,"n_rows":21,"n_cols":14,"rows_kept":21,"cut":false,"hidden":true,"merged":[[0,0,0,13],[2,4,2,13],[7,4,7,13],[12,4,12,13],[17,4,17,13]]}
["CALCULS DIES LABORALS NO TOPATS"]
[]
["dies pr",null,null,null,"CÀLCUL DIES pr"]
[null,"DATA INICI","DATA FI",null,null,"DIA","MES ","ANY",null,"dif mesos","dif dies","total mesos","dies","total dies"]
["TOTAL VINCULACIÓ",{"$f":"PR!B48","v":"2025-01-01"},{"$f":"PR!D5","v":"2025-12-31"},null,"INICI VINCULACIÓ",{"$f":"DAY(B5)","v":1},{"$f":"MONTH(B5)","v":1},{"$f":"YEAR(B5)","v":2025},null,{"$f":"IF(F5>1,-1,0)","v":0},{"$f":"IF(F5=1,-M5,0)","v":-31},{"$f":"IF(H5=H6,G6-G5+1,13-G5+G6+(H6-H5-1)*12)+J5+J6","v":12},{"$f":"IF(G5=1,31-F5,IF(G5=2,28-F5,IF(G5=3,31-F5,IF(G5=4,30-F5,IF(G5=5,31-F5,IF(G5=6,30-F5,IF(G5=7,31-F5,IF(G5=8,31-F5,IF(G5=9,30-F5,IF(G5=10,31-F5,IF(G5=11,30-F5,IF(G5=12,31-F5))))))))))))+1","v":31},{"$f":"SUM(K5+M5+M6)","v":0}]
["PRORROGA",{"$f":"PR!B49","v":"2025-01-01"},{"$f":"PR!D5","v":"2025-12-31"},null,"FI VINCULACIÓ",{"$f":"DAY(C5)","v":31},{"$f":"MONTH(C5)","v":12},{"$f":"YEAR(C5)","v":2025},null,{"$f":"IF(AND(G6=1,F6=31),0,IF(AND(G6=2,28=F6),0,IF(AND(G6=3,31=F6),0,IF(AND(G6=4,30=F6),0,IF(AND(G6=5,31=F6),0,IF(AND(G6=6,30=F6),0,IF(AND(G6=7,31=F6),0,IF(AND(G6=8,31=F6),0,IF(AND(G6=9,30=F6),0,IF(AND(G6=10,31=F6),0,IF(AND(G6=11,30=F6),0,IF(AND(G6=12,31=F6),0,-1))))))))))))","v":0},null,null,{"$f":"IF(AND(G6=1,F6<>31),F6,IF(AND(G6=2,28<>F6),F6,IF(AND(G6=3,31<>F6),F6,IF(AND(G6=4,30<>F6),F6,IF(AND(G6=5,31<>F6),F6,IF(AND(G6=6,30<>F6),F6,IF(AND(G6=7,31<>F6),F6,IF(AND(G6=8,31<>F6),F6,IF(AND(G6=9,30<>F6),F6,IF(AND(G6=10,31<>F6),F6,IF(AND(G6=11,30<>F6),F6,IF(AND(G6=12,31<>F6),F6,0))))))))))))","v":0}]
["dies pr distingit"]
["TOTAL VINCULACIÓ",{"$f":"SUM(#REF!)","v":{"$error":"#REF!"}},{"$f":"SUM(#REF!)","v":{"$error":"#REF!"}},null,"CÀLCUL DIES PRÒRROGA pr"]
["PRORROGA",{"$f":"SUM(#REF!)","v":{"$error":"#REF!"}},{"$f":"SUM(#REF!)","v":{"$error":"#REF!"}},null,null,"DIA","MES ","ANY",null,"dif mesos","dif dies","total mesos","dies","total dies"]
[null,null,null,null,"INICI PRORROGA",{"$f":"DAY(B6)","v":1},{"$f":"MONTH(B6)","v":1},{"$f":"YEAR(B6)","v":2025},null,{"$f":"IF(F10>1,-1,0)","v":0},{"$f":"IF(F10=1,-M10,0)","v":-31},{"$f":"IF(H10=H11,G11-G10+1,13-G10+G11+(H11-H10-1)*12)+J10+J11","v":12},{"$f":"IF(G10=1,31-F10,IF(G10=2,28-F10,IF(G10=3,31-F10,IF(G10=4,30-F10,IF(G10=5,31-F10,IF(G10=6,30-F10,IF(G10=7,31-F10,IF(G10=8,31-F10,IF(G10=9,30-F10,IF(G10=10,31-F10,IF(G10=11,30-F10,IF(G10=12,31-F10))))))))))))+1","v":31},{"$f":"SUM(K10+M10+M11)","v":0}]
[null,null,null,null,"FI VINCULACIÓ",{"$f":"DAY(C5)","v":31},{"$f":"MONTH(C5)","v":12},{"$f":"YEAR(C5)","v":2025},null,{"$f":"IF(AND(G11=1,F11=31),0,IF(AND(G11=2,28=F11),0,IF(AND(G11=3,31=F11),0,IF(AND(G11=4,30=F11),0,IF(AND(G11=5,31=F11),0,IF(AND(G11=6,30=F11),0,IF(AND(G11=7,31=F11),0,IF(AND(G11=8,31=F11),0,IF(AND(G11=9,30=F11),0,IF(AND(G11=10,31=F11),0,IF(AND(G11=11,30=F11),0,IF(AND(G11=12,31=F11),0,-1))))))))))))","v":0},null,null,{"$f":"IF(AND(G11=1,F11<>31),F11,IF(AND(G11=2,28<>F11),F11,IF(AND(G11=3,31<>F11),F11,IF(AND(G11=4,30<>F11),F11,IF(AND(G11=5,31<>F11),F11,IF(AND(G11=6,30<>F11),F11,IF(AND(G11=7,31<>F11),F11,IF(AND(G11=8,31<>F11),F11,IF(AND(G11=9,30<>F11),F11,IF(AND(G11=10,31<>F11),F11,IF(AND(G11=11,30<>F11),F11,IF(AND(G11=12,31<>F11),F11,0))))))))))))","v":0}]
[]
[null,null,null,null,"CÀLCUL DIES pr DISTINGIT"]
[null,null,null,null,null,"DIA","MES ","ANY",null,"dif mesos","dif dies","total mesos","dies","total dies"]
[null,null,null,null,"INICI",{"$f":"DAY(B8)","v":{"$error":"#REF!"}},{"$f":"MONTH(B8)","v":{"$error":"#REF!"}},{"$f":"YEAR(B8)","v":{"$error":"#REF!"}},null,{"$f":"IF(F15>1,-1,0)","v":{"$error":"#REF!"}},{"$f":"IF(F15=1,-M15,0)","v":{"$error":"#REF!"}},{"$f":"IF(H15=H16,G16-G15+1,13-G15+G16+(H16-H15-1)*12)+J15+J16","v":{"$error":"#REF!"}},{"$f":"IF(G15=1,31-F15,IF(G15=2,28-F15,IF(G15=3,31-F15,IF(G15=4,30-F15,IF(G15=5,31-F15,IF(G15=6,30-F15,IF(G15=7,31-F15,IF(G15=8,31-F15,IF(G15=9,30-F15,IF(G15=10,31-F15,IF(G15=11,30-F15,IF(G15=12,31-F15))))))))))))+1","v":{"$error":"#REF!"}},{"$f":"SUM(K15+M15+M16)","v":{"$error":"#REF!"}}]
[null,null,null,null,"FI",{"$f":"DAY(C8)","v":{"$error":"#REF!"}},{"$f":"MONTH(C8)","v":{"$error":"#REF!"}},{"$f":"YEAR(C8)","v":{"$error":"#REF!"}},null,{"$f":"IF(AND(G16=1,F16=31),0,IF(AND(G16=2,28=F16),0,IF(AND(G16=3,31=F16),0,IF(AND(G16=4,30=F16),0,IF(AND(G16=5,31=F16),0,IF(AND(G16=6,30=F16),0,IF(AND(G16=7,31=F16),0,IF(AND(G16=8,31=F16),0,IF(AND(G16=9,30=F16),0,IF(AND(G16=10,31=F16),0,IF(AND(G16=11,30=F16),0,IF(AND(G16=12,31=F16),0,-1))))))))))))","v":{"$error":"#REF!"}},null,null,{"$f":"IF(AND(G16=1,F16<>31),F16,IF(AND(G16=2,28<>F16),F16,IF(AND(G16=3,31<>F16),F16,IF(AND(G16=4,30<>F16),F16,IF(AND(G16=5,31<>F16),F16,IF(AND(G16=6,30<>F16),F16,IF(AND(G16=7,31<>F16),F16,IF(AND(G16=8,31<>F16),F16,IF(AND(G16=9,30<>F16),F16,IF(AND(G16=10,31<>F16),F16,IF(AND(G16=11,30<>F16),F16,IF(AND(G16=12,31<>F16),F16,0))))))))))))","v":{"$error":"#REF!"}}]
[]
[null,null,null,null,"CÀLCUL DIES PRÒRROGA pr DISTINGIT"]
[null,null,null,null,null,"DIA","MES ","ANY",null,"dif mesos","dif dies","total mesos","dies","total dies"]
[null,null,null,null,"INICI",{"$f":"DAY(B9)","v":{"$error":"#REF!"}},{"$f":"MONTH(B9)","v":{"$error":"#REF!"}},{"$f":"YEAR(B9)","v":{"$error":"#REF!"}},null,{"$f":"IF(F20>1,-1,0)","v":{"$error":"#REF!"}},{"$f":"IF(F20=1,-M20,0)","v":{"$error":"#REF!"}},{"$f":"IF(H20=H21,G21-G20+1,13-G20+G21+(H21-H20-1)*12)+J20+J21","v":{"$error":"#REF!"}},{"$f":"IF(G20=1,31-F20,IF(G20=2,28-F20,IF(G20=3,31-F20,IF(G20=4,30-F20,IF(G20=5,31-F20,IF(G20=6,30-F20,IF(G20=7,31-F20,IF(G20=8,31-F20,IF(G20=9,30-F20,IF(G20=10,31-F20,IF(G20=11,30-F20,IF(G20=12,31-F20))))))))))))+1","v":{"$error":"#REF!"}},{"$f":"SUM(K20+M20+M21)","v":{"$error":"#REF!"}}]
[null,null,null,null,"FI",{"$f":"DAY(C9)","v":{"$error":"#REF!"}},{"$f":"MONTH(C9)","v":{"$error":"#REF!"}},{"$f":"YEAR(C9)","v":{"$error":"#REF!"}},null,{"$f":"IF(AND(G21=1,F21=31),0,IF(AND(G21=2,28=F21),0,IF(AND(G21=3,31=F21),0,IF(AND(G21=4,30=F21),0,IF(AND(G21=5,31=F21),0,IF(AND(G21=6,30=F21),0,IF(AND(G21=7,31=F21),0,IF(AND(G21=8,31=F21),0,IF(AND(G21=9,30=F21),0,IF(AND(G21=10,31=F21),0,IF(AND(G21=11,30=F21),0,IF(AND(G21=12,31=F21),0,-1))))))))))))","v":{"$error":"#REF!"}},null,null,{"$f":"IF(AND(G21=1,F21<>31),F21,IF(AND(G21=2,28<>F21),F21,IF(AND(G21=3,31<>F21),F21,IF(AND(G21=4,30<>F21),F21,IF(AND(G21=5,31<>F21),F21,IF(AND(G21=6,30<>F21),F21,IF(AND(G21=7,31<>F21),F21,IF(AND(G21=8,31<>F21),F21,IF(AND(G21=9,30<>F21),F21,IF(AND(G21=10,31<>F21),F21,IF(AND(G21=11,30<>F21),F21,IF(AND(G21=12,31<>F21),F21,0))))))))))))","v":{"$error":"#REF!"}}]

{"sheet":"CONTRACTES","index":3,"n_rows":8,"n_cols":8,"rows_kept":8,"cut":false,"hidden":true,"merged":[[2,0,2,6]]}
[]
[]
["CONTRCTES PR 2022"]
["CODI","DURADA","TIPUS","DEDICACIÓ","INDEMNITZACIÓ","RETRIBUCIONS","QUOTA PATRONAL"]
[100,"INDEFINIT","D’ACTIVITATS CIENTIFICOTÈCNIQUES (PROJECTES CTT)","TEMPS COMPLET","20 (*)",1,0.314]
[200,"INDEFINIT","D’ACTIVITATS CIENTIFICOTÈCNIQUES (PROJECTES CTT)","TEMPS PARCIAL","20 (*)",1,0.314]
[406,"TEMPORAL","VINCULAT A PROGRAMES FINANÇATS PER FONS EUROPEUS","TEMPS COMPLET",12,1,0.32600000000000001,"No SOPHIA"]
[506,"TEMPORAL","VINCULAT A PROGRAMES FINANÇATS PER FONS EUROPEUS","TEMPS PARCIAL",12,1,0.32600000000000001,"No SOPHIA"]